BEGIN:VCALENDAR
VERSION:2.0
PRODID:-//Wijkvereniging De Weide | het hart van de wijk! - ECPv6.15.20//NONSGML v1.0//EN
CALSCALE:GREGORIAN
METHOD:PUBLISH
X-ORIGINAL-URL:https://wijkverenigingdeweide.com
X-WR-CALDESC:Evenementen voor Wijkvereniging De Weide | het hart van de wijk!
REFRESH-INTERVAL;VALUE=DURATION:PT1H
X-Robots-Tag:noindex
X-PUBLISHED-TTL:PT1H
BEGIN:VTIMEZONE
TZID:Europe/Amsterdam
BEGIN:DAYLIGHT
TZOFFSETFROM:+0100
TZOFFSETTO:+0200
TZNAME:CEST
DTSTART:20230326T010000
END:DAYLIGHT
BEGIN:STANDARD
TZOFFSETFROM:+0200
TZOFFSETTO:+0100
TZNAME:CET
DTSTART:20231029T010000
END:STANDARD
BEGIN:DAYLIGHT
TZOFFSETFROM:+0100
TZOFFSETTO:+0200
TZNAME:CEST
DTSTART:20240331T010000
END:DAYLIGHT
BEGIN:STANDARD
TZOFFSETFROM:+0200
TZOFFSETTO:+0100
TZNAME:CET
DTSTART:20241027T010000
END:STANDARD
BEGIN:DAYLIGHT
TZOFFSETFROM:+0100
TZOFFSETTO:+0200
TZNAME:CEST
DTSTART:20250330T010000
END:DAYLIGHT
BEGIN:STANDARD
TZOFFSETFROM:+0200
TZOFFSETTO:+0100
TZNAME:CET
DTSTART:20251026T010000
END:STANDARD
END:VTIMEZONE
BEGIN:VEVENT
DTSTART;TZID=Europe/Amsterdam:20241113T193000
DTEND;TZID=Europe/Amsterdam:20241113T193000
DTSTAMP:20260422T142037
CREATED:20240908T082402Z
LAST-MODIFIED:20240908T082834Z
UID:1641-1731526200-1731526200@wijkverenigingdeweide.com
SUMMARY:Workshop Handlettering
DESCRIPTION:Woensdag 13 november geeft Bertine Huisman weer een workshop handlettering. De avond begint om 19.30 uur en eindigt om ongeveer 21.30 uur. Deze avond gaat iedereen met dezelfde tekst aan de gang en leer je over verschillende lettertypes en het indelen van de tekst. Nadat de tekst op papier staat mag ieder naar eigen smaak zijn tekst verfraaien met kleur en kleine tekeningetjes. Zo gaat iedereen toch met een ander werkstuk naar huis.\nKosten voor deze avond zijn € 25\,-. Voor alle materialen wordt gezorgd en er het is mogelijk om die avond een materialensetje te kopen om thuis mee aan de slag te gaan. \n  \nOpgeven voor deze avond(en) kan per mail naar ber10ehuisman@hotmail.com \n  \nnb. Deze activiteit wordt georganiseerd door een externe organisator
URL:https://wijkverenigingdeweide.com/event/workshop-handlettering/
LOCATION:Wijkcentrum De Weideblik\, De Ploeger 10\, Hoogeveen\, 7908LL\, Nederland
CATEGORIES:extern georganiseerde activiteiten
ATTACH;FMTTYPE=image/png:https://wijkverenigingdeweide.com/wp-content/uploads/2024/09/promotie-handletteren.png
ORGANIZER;CN="Bertine Huisman":MAILTO:ber10ehuisman@hotmail.com
END:VEVENT
END:VCALENDAR