BEGIN:VCALENDAR
VERSION:2.0
PRODID:-//Wijkvereniging De Weide | het hart van de wijk! - ECPv6.15.20//NONSGML v1.0//EN
CALSCALE:GREGORIAN
METHOD:PUBLISH
X-WR-CALNAME:Wijkvereniging De Weide | het hart van de wijk!
X-ORIGINAL-URL:https://wijkverenigingdeweide.com
X-WR-CALDESC:Evenementen voor Wijkvereniging De Weide | het hart van de wijk!
REFRESH-INTERVAL;VALUE=DURATION:PT1H
X-Robots-Tag:noindex
X-PUBLISHED-TTL:PT1H
BEGIN:VTIMEZONE
TZID:Europe/Amsterdam
BEGIN:DAYLIGHT
TZOFFSETFROM:+0100
TZOFFSETTO:+0200
TZNAME:CEST
DTSTART:20240331T010000
END:DAYLIGHT
BEGIN:STANDARD
TZOFFSETFROM:+0200
TZOFFSETTO:+0100
TZNAME:CET
DTSTART:20241027T010000
END:STANDARD
BEGIN:DAYLIGHT
TZOFFSETFROM:+0100
TZOFFSETTO:+0200
TZNAME:CEST
DTSTART:20250330T010000
END:DAYLIGHT
BEGIN:STANDARD
TZOFFSETFROM:+0200
TZOFFSETTO:+0100
TZNAME:CET
DTSTART:20251026T010000
END:STANDARD
BEGIN:DAYLIGHT
TZOFFSETFROM:+0100
TZOFFSETTO:+0200
TZNAME:CEST
DTSTART:20260329T010000
END:DAYLIGHT
BEGIN:STANDARD
TZOFFSETFROM:+0200
TZOFFSETTO:+0100
TZNAME:CET
DTSTART:20261025T010000
END:STANDARD
END:VTIMEZONE
BEGIN:VEVENT
DTSTART;TZID=Europe/Amsterdam:20250219T193000
DTEND;TZID=Europe/Amsterdam:20250219T213000
DTSTAMP:20260420T025153
CREATED:20240908T083151Z
LAST-MODIFIED:20240908T083151Z
UID:1649-1739993400-1740000600@wijkverenigingdeweide.com
SUMMARY:Cursus Brushlettering (3 van 3)
DESCRIPTION:Dit seizoen geeft Bertine Huisman in februari 3 woensdagavonden (5\, 12 en 19) een cursus brushlettering.\nDe eerste avond\, 5 februari\, wordt er eerst volop geoefend om het gevoel met de pen te krijgen. De tweede avond\, 12 februari\, gaan we oefenen met de letters. De derde avond\, 19 februari\, staat in het teken van een mooi brushletterwerkstuk.\nDeze avonden beginnen ook om 19.30 uur en duren tot ongeveer 21.30 uur. Kosten voor deze cursus zijn € 67\,50. Voor alle materialen wordt gezorgd en het is mogelijk om een materialensetje te kopen om thuis mee aan de slag te gaan.\n\nOpgeven voor deze avond(en) kan per mail naar ber10ehuisman@hotmail.com
URL:https://wijkverenigingdeweide.com/event/cursus-brushlettering-3-van-3/
LOCATION:Wijkcentrum De Weideblik\, De Ploeger 10\, Hoogeveen\, 7908LL\, Nederland
CATEGORIES:extern georganiseerde activiteiten
ATTACH;FMTTYPE=image/png:https://wijkverenigingdeweide.com/wp-content/uploads/2024/09/promotie-brushlettering.png
ORGANIZER;CN="Bertine Huisman":MAILTO:ber10ehuisman@hotmail.com
END:VEVENT
END:VCALENDAR