BEGIN:VCALENDAR
VERSION:2.0
PRODID:-//Wijkvereniging De Weide | het hart van de wijk! - ECPv6.15.20//NONSGML v1.0//EN
CALSCALE:GREGORIAN
METHOD:PUBLISH
X-ORIGINAL-URL:https://wijkverenigingdeweide.com
X-WR-CALDESC:Evenementen voor Wijkvereniging De Weide | het hart van de wijk!
REFRESH-INTERVAL;VALUE=DURATION:PT1H
X-Robots-Tag:noindex
X-PUBLISHED-TTL:PT1H
BEGIN:VTIMEZONE
TZID:Europe/Amsterdam
BEGIN:DAYLIGHT
TZOFFSETFROM:+0100
TZOFFSETTO:+0200
TZNAME:CEST
DTSTART:20240331T010000
END:DAYLIGHT
BEGIN:STANDARD
TZOFFSETFROM:+0200
TZOFFSETTO:+0100
TZNAME:CET
DTSTART:20241027T010000
END:STANDARD
BEGIN:DAYLIGHT
TZOFFSETFROM:+0100
TZOFFSETTO:+0200
TZNAME:CEST
DTSTART:20250330T010000
END:DAYLIGHT
BEGIN:STANDARD
TZOFFSETFROM:+0200
TZOFFSETTO:+0100
TZNAME:CET
DTSTART:20251026T010000
END:STANDARD
BEGIN:DAYLIGHT
TZOFFSETFROM:+0100
TZOFFSETTO:+0200
TZNAME:CEST
DTSTART:20260329T010000
END:DAYLIGHT
BEGIN:STANDARD
TZOFFSETFROM:+0200
TZOFFSETTO:+0100
TZNAME:CET
DTSTART:20261025T010000
END:STANDARD
END:VTIMEZONE
BEGIN:VEVENT
DTSTART;TZID=Europe/Amsterdam:20250322T100000
DTEND;TZID=Europe/Amsterdam:20250322T150000
DTSTAMP:20260420T011259
CREATED:20250122T170424Z
LAST-MODIFIED:20250122T170424Z
UID:1792-1742637600-1742655600@wijkverenigingdeweide.com
SUMMARY:Compost/Potgrond verkoop
DESCRIPTION:
URL:https://wijkverenigingdeweide.com/event/compost-potgrond-verkoop/
LOCATION:Wijkcentrum De Weideblik\, De Ploeger 10\, Hoogeveen\, 7908LL\, Nederland
CATEGORIES:Compostactie
ORGANIZER;CN="Gerrit Verweij":MAILTO:activiteitencommissie@wijkverenigingdeweide.nl
END:VEVENT
BEGIN:VEVENT
DTSTART;TZID=Europe/Amsterdam:20250322T200000
DTEND;TZID=Europe/Amsterdam:20250322T230000
DTSTAMP:20260420T011259
CREATED:20250122T170209Z
LAST-MODIFIED:20250202T093531Z
UID:1790-1742673600-1742684400@wijkverenigingdeweide.com
SUMMARY:Toneelvoorstelling "Hotel te koop"
DESCRIPTION:Op 21 en 22 maart 2025 voeren wij “Hotel te koop” op. Het is een dolkomische klucht en is geschreven door Henk Roede. Reserveert u alvast een avond in uw agenda? Het is echt een ontzettend leuk stuk. Een korte beschrijving is als volgt:\nSimon en Emma runnen al jaren een klein hotelletje op een prachtige plek midden in de bossen. Maar inmiddels zijn ze op een leeftijd gekomen dat ze graag willen stoppen\, om van een welverdiend pensioen te kunnen genieten. Het hotel staat al een tijdje te koop en eindelijk heeft zich een koper gemeld. Alles op alles zal moeten worden gezet om een goede indruk op deze koper te maken\, maar dat zal nog niet meevallen. Het is niet alleen dat Simon en Emma de laatste jaren niet zoveel energie en geld meer in het hotel hebben gestopt\, ook is het personeel misschien niet helemaal opgewassen voor de taken die ze eigenlijk horen te vervullen. Het is dus nog maar afwachten of de koop doorgaat en zo ja\, wat is de koper eigenlijk van plan met het hotel?Het is dolkomische klucht direct van het begin tot het einde. Grappen en komische situaties volgen elkaar in razend snel tempo op\, waardoor het publiek bijna geen tijd heeft om op adem te komen.
URL:https://wijkverenigingdeweide.com/event/toneelvoorstelling-hotel-te-koop-2/
LOCATION:Wijkcentrum De Weideblik\, De Ploeger 10\, Hoogeveen\, 7908LL\, Nederland
CATEGORIES:Toneeluitvoering
ATTACH;FMTTYPE=image/jpeg:https://wijkverenigingdeweide.com/wp-content/uploads/2025/01/Toneeluitvoering-2025.jpg
ORGANIZER;CN="Sandy Schelvis":MAILTO:toneel@wijkverenigingdeweide.nl
END:VEVENT
END:VCALENDAR