BEGIN:VCALENDAR
VERSION:2.0
PRODID:-//Wijkvereniging De Weide | het hart van de wijk! - ECPv6.15.20//NONSGML v1.0//EN
CALSCALE:GREGORIAN
METHOD:PUBLISH
X-WR-CALNAME:Wijkvereniging De Weide | het hart van de wijk!
X-ORIGINAL-URL:https://wijkverenigingdeweide.com
X-WR-CALDESC:Evenementen voor Wijkvereniging De Weide | het hart van de wijk!
REFRESH-INTERVAL;VALUE=DURATION:PT1H
X-Robots-Tag:noindex
X-PUBLISHED-TTL:PT1H
BEGIN:VTIMEZONE
TZID:Europe/Amsterdam
BEGIN:DAYLIGHT
TZOFFSETFROM:+0100
TZOFFSETTO:+0200
TZNAME:CEST
DTSTART:20230326T010000
END:DAYLIGHT
BEGIN:STANDARD
TZOFFSETFROM:+0200
TZOFFSETTO:+0100
TZNAME:CET
DTSTART:20231029T010000
END:STANDARD
BEGIN:DAYLIGHT
TZOFFSETFROM:+0100
TZOFFSETTO:+0200
TZNAME:CEST
DTSTART:20240331T010000
END:DAYLIGHT
BEGIN:STANDARD
TZOFFSETFROM:+0200
TZOFFSETTO:+0100
TZNAME:CET
DTSTART:20241027T010000
END:STANDARD
BEGIN:DAYLIGHT
TZOFFSETFROM:+0100
TZOFFSETTO:+0200
TZNAME:CEST
DTSTART:20250330T010000
END:DAYLIGHT
BEGIN:STANDARD
TZOFFSETFROM:+0200
TZOFFSETTO:+0100
TZNAME:CET
DTSTART:20251026T010000
END:STANDARD
BEGIN:DAYLIGHT
TZOFFSETFROM:+0100
TZOFFSETTO:+0200
TZNAME:CEST
DTSTART:20260329T010000
END:DAYLIGHT
BEGIN:STANDARD
TZOFFSETFROM:+0200
TZOFFSETTO:+0100
TZNAME:CET
DTSTART:20261025T010000
END:STANDARD
END:VTIMEZONE
BEGIN:VEVENT
DTSTART;TZID=Europe/Amsterdam:20251116T130000
DTEND;TZID=Europe/Amsterdam:20251116T160000
DTSTAMP:20260425T163631
CREATED:20250917T053610Z
LAST-MODIFIED:20250917T053610Z
UID:2116-1763298000-1763308800@wijkverenigingdeweide.com
SUMMARY:Boeken & Platenmarkt
DESCRIPTION:
URL:https://wijkverenigingdeweide.com/event/boeken-platenmarkt-9/
LOCATION:Wijkcentrum De Weideblik\, De Ploeger 10\, Hoogeveen\, 7908LL\, Nederland
CATEGORIES:Boeken & Platen
ATTACH;FMTTYPE=image/jpeg:https://wijkverenigingdeweide.com/wp-content/uploads/2025/09/251115-boekenbeurs-november.jpg
END:VEVENT
BEGIN:VEVENT
DTSTART;TZID=Europe/Amsterdam:20251115T100000
DTEND;TZID=Europe/Amsterdam:20251115T160000
DTSTAMP:20260425T163631
CREATED:20250917T053525Z
LAST-MODIFIED:20250917T053525Z
UID:2114-1763200800-1763222400@wijkverenigingdeweide.com
SUMMARY:Boeken & Platenmarkt
DESCRIPTION:
URL:https://wijkverenigingdeweide.com/event/boeken-platenmarkt-8/
LOCATION:Wijkcentrum De Weideblik\, De Ploeger 10\, Hoogeveen\, 7908LL\, Nederland
CATEGORIES:Boeken & Platen
ATTACH;FMTTYPE=image/jpeg:https://wijkverenigingdeweide.com/wp-content/uploads/2025/09/251115-boekenbeurs-november.jpg
END:VEVENT
BEGIN:VEVENT
DTSTART;TZID=Europe/Amsterdam:20251114T160000
DTEND;TZID=Europe/Amsterdam:20251114T200000
DTSTAMP:20260425T163631
CREATED:20250917T053437Z
LAST-MODIFIED:20250917T053437Z
UID:2111-1763136000-1763150400@wijkverenigingdeweide.com
SUMMARY:Boeken & Platenmarkt
DESCRIPTION:
URL:https://wijkverenigingdeweide.com/event/boeken-platenmarkt-7/
LOCATION:Wijkcentrum De Weideblik\, De Ploeger 10\, Hoogeveen\, 7908LL\, Nederland
CATEGORIES:Boeken & Platen
ATTACH;FMTTYPE=image/jpeg:https://wijkverenigingdeweide.com/wp-content/uploads/2025/09/251115-boekenbeurs-november.jpg
END:VEVENT
BEGIN:VEVENT
DTSTART;TZID=Europe/Amsterdam:20250622T130000
DTEND;TZID=Europe/Amsterdam:20250622T160000
DTSTAMP:20260425T163631
CREATED:20250406T105602Z
LAST-MODIFIED:20250406T105602Z
UID:1941-1750597200-1750608000@wijkverenigingdeweide.com
SUMMARY:Boeken & Platenmarkt
DESCRIPTION:De voorjaarseditie van onze bekende Boeken & Platenmarkt. Duizenden boeken\, tijdschriften\, vele honderden LP’s\,\nsingles\, CD’s en DVD’s overzichtelijk uitgestald.\nWij hebben meer dan honderd Country LP’s\, meer dan dui-\nzend nieuwe CD’s en vele honderden boeken binnengekre-\ngen. De toegang is uiteraard gratis.\nAlle artikelen zijn € 1\,- (tenzij anders aangegeven)
URL:https://wijkverenigingdeweide.com/event/boeken-platenmarkt-6/
LOCATION:Wijkcentrum De Weideblik\, De Ploeger 10\, Hoogeveen\, 7908LL\, Nederland
CATEGORIES:Boeken & Platen
ATTACH;FMTTYPE=application/pdf:https://wijkverenigingdeweide.com/wp-content/uploads/2025/04/BP-advertentie-voorjaar-2025-3.pdf
ORGANIZER;CN="Ginny Brinkman":MAILTO:boekenplaat@wijkverenigingdeweide.nl
END:VEVENT
BEGIN:VEVENT
DTSTART;TZID=Europe/Amsterdam:20250621T100000
DTEND;TZID=Europe/Amsterdam:20250621T160000
DTSTAMP:20260425T163631
CREATED:20250406T105452Z
LAST-MODIFIED:20250406T105452Z
UID:1938-1750500000-1750521600@wijkverenigingdeweide.com
SUMMARY:Boeken & Platenmarkt
DESCRIPTION:De voorjaarseditie van onze bekende Boeken & Platenmarkt. Duizenden boeken\, tijdschriften\, vele honderden LP’s\,\nsingles\, CD’s en DVD’s overzichtelijk uitgestald.\nWij hebben meer dan honderd Country LP’s\, meer dan dui-\nzend nieuwe CD’s en vele honderden boeken binnengekre-\ngen. De toegang is uiteraard gratis.\nAlle artikelen zijn € 1\,- (tenzij anders aangegeven)
URL:https://wijkverenigingdeweide.com/event/boeken-platenmarkt-5/
LOCATION:Wijkcentrum De Weideblik\, De Ploeger 10\, Hoogeveen\, 7908LL\, Nederland
CATEGORIES:Boeken & Platen
ATTACH;FMTTYPE=application/pdf:https://wijkverenigingdeweide.com/wp-content/uploads/2025/04/BP-advertentie-voorjaar-2025-2.pdf
ORGANIZER;CN="Ginny Brinkman":MAILTO:boekenplaat@wijkverenigingdeweide.nl
END:VEVENT
BEGIN:VEVENT
DTSTART;TZID=Europe/Amsterdam:20250620T160000
DTEND;TZID=Europe/Amsterdam:20250620T200000
DTSTAMP:20260425T163631
CREATED:20250406T105345Z
LAST-MODIFIED:20250406T105345Z
UID:1935-1750435200-1750449600@wijkverenigingdeweide.com
SUMMARY:Boeken & Platenmarkt
DESCRIPTION:De voorjaarseditie van onze bekende Boeken & Platenmarkt. Duizenden boeken\, tijdschriften\, vele honderden LP’s\,\nsingles\, CD’s en DVD’s overzichtelijk uitgestald.\nWij hebben meer dan honderd Country LP’s\, meer dan dui-\nzend nieuwe CD’s en vele honderden boeken binnengekre-\ngen. De toegang is uiteraard gratis.\nAlle artikelen zijn € 1\,- (tenzij anders aangegeven)
URL:https://wijkverenigingdeweide.com/event/boeken-platenmarkt-4/
LOCATION:Wijkcentrum De Weideblik\, De Ploeger 10\, Hoogeveen\, 7908LL\, Nederland
CATEGORIES:Boeken & Platen
ATTACH;FMTTYPE=application/pdf:https://wijkverenigingdeweide.com/wp-content/uploads/2025/04/BP-advertentie-voorjaar-2025-1.pdf
ORGANIZER;CN="Ginny Brinkman":MAILTO:boekenplaat@wijkverenigingdeweide.nl
END:VEVENT
BEGIN:VEVENT
DTSTART;TZID=Europe/Amsterdam:20241117T130000
DTEND;TZID=Europe/Amsterdam:20241117T160000
DTSTAMP:20260425T163631
CREATED:20231203T112323Z
LAST-MODIFIED:20240822T084045Z
UID:356-1731848400-1731859200@wijkverenigingdeweide.com
SUMMARY:Boeken & Platenmarkt
DESCRIPTION:
URL:https://wijkverenigingdeweide.com/event/boeken-platenmarkt-3/
LOCATION:Wijkcentrum De Weideblik\, De Ploeger 10\, Hoogeveen\, 7908LL\, Nederland
CATEGORIES:Boeken & Platen
ATTACH;FMTTYPE=application/pdf:https://wijkverenigingdeweide.com/wp-content/uploads/2023/12/advertentie-najaar-2024.pdf
ORGANIZER;CN="Ginny Brinkman":MAILTO:boekenplaat@wijkverenigingdeweide.nl
END:VEVENT
BEGIN:VEVENT
DTSTART;TZID=Europe/Amsterdam:20241116T100000
DTEND;TZID=Europe/Amsterdam:20241116T160000
DTSTAMP:20260425T163631
CREATED:20231203T112225Z
LAST-MODIFIED:20240822T084239Z
UID:354-1731751200-1731772800@wijkverenigingdeweide.com
SUMMARY:Boeken & Platenmarkt
DESCRIPTION:
URL:https://wijkverenigingdeweide.com/event/boeken-platenmarkt-2/
LOCATION:Wijkcentrum De Weideblik\, De Ploeger 10\, Hoogeveen\, 7908LL\, Nederland
CATEGORIES:Boeken & Platen
ORGANIZER;CN="Ginny Brinkman":MAILTO:boekenplaat@wijkverenigingdeweide.nl
END:VEVENT
BEGIN:VEVENT
DTSTART;TZID=Europe/Amsterdam:20241115T160000
DTEND;TZID=Europe/Amsterdam:20241115T200000
DTSTAMP:20260425T163631
CREATED:20231203T112139Z
LAST-MODIFIED:20240822T084318Z
UID:351-1731686400-1731700800@wijkverenigingdeweide.com
SUMMARY:Boeken & Platenmarkt
DESCRIPTION:
URL:https://wijkverenigingdeweide.com/event/boeken-platenmarkt/
LOCATION:Wijkcentrum De Weideblik\, De Ploeger 10\, Hoogeveen\, 7908LL\, Nederland
CATEGORIES:Boeken & Platen
ORGANIZER;CN="Ginny Brinkman":MAILTO:boekenplaat@wijkverenigingdeweide.nl
END:VEVENT
END:VCALENDAR