BEGIN:VCALENDAR
VERSION:2.0
PRODID:-//Wijkvereniging De Weide | het hart van de wijk! - ECPv6.15.20//NONSGML v1.0//EN
CALSCALE:GREGORIAN
METHOD:PUBLISH
X-WR-CALNAME:Wijkvereniging De Weide | het hart van de wijk!
X-ORIGINAL-URL:https://wijkverenigingdeweide.com
X-WR-CALDESC:Evenementen voor Wijkvereniging De Weide | het hart van de wijk!
REFRESH-INTERVAL;VALUE=DURATION:PT1H
X-Robots-Tag:noindex
X-PUBLISHED-TTL:PT1H
BEGIN:VTIMEZONE
TZID:Europe/Amsterdam
BEGIN:DAYLIGHT
TZOFFSETFROM:+0100
TZOFFSETTO:+0200
TZNAME:CEST
DTSTART:20230326T010000
END:DAYLIGHT
BEGIN:STANDARD
TZOFFSETFROM:+0200
TZOFFSETTO:+0100
TZNAME:CET
DTSTART:20231029T010000
END:STANDARD
BEGIN:DAYLIGHT
TZOFFSETFROM:+0100
TZOFFSETTO:+0200
TZNAME:CEST
DTSTART:20240331T010000
END:DAYLIGHT
BEGIN:STANDARD
TZOFFSETFROM:+0200
TZOFFSETTO:+0100
TZNAME:CET
DTSTART:20241027T010000
END:STANDARD
BEGIN:DAYLIGHT
TZOFFSETFROM:+0100
TZOFFSETTO:+0200
TZNAME:CEST
DTSTART:20250330T010000
END:DAYLIGHT
BEGIN:STANDARD
TZOFFSETFROM:+0200
TZOFFSETTO:+0100
TZNAME:CET
DTSTART:20251026T010000
END:STANDARD
BEGIN:DAYLIGHT
TZOFFSETFROM:+0100
TZOFFSETTO:+0200
TZNAME:CEST
DTSTART:20260329T010000
END:DAYLIGHT
BEGIN:STANDARD
TZOFFSETFROM:+0200
TZOFFSETTO:+0100
TZNAME:CET
DTSTART:20261025T010000
END:STANDARD
BEGIN:DAYLIGHT
TZOFFSETFROM:+0100
TZOFFSETTO:+0200
TZNAME:CEST
DTSTART:20270328T010000
END:DAYLIGHT
BEGIN:STANDARD
TZOFFSETFROM:+0200
TZOFFSETTO:+0100
TZNAME:CET
DTSTART:20271031T010000
END:STANDARD
END:VTIMEZONE
BEGIN:VEVENT
DTSTART;TZID=Europe/Amsterdam:20260331T000000
DTEND;TZID=Europe/Amsterdam:20260331T000000
DTSTAMP:20260421T060435
CREATED:20260306T170041Z
LAST-MODIFIED:20260306T170041Z
UID:2275-1774915200-1774915200@wijkverenigingdeweide.com
SUMMARY:Paas Klaverjastoernooi
DESCRIPTION:Wijkvereniging De Weide organiseert op 31 maart een Paas-Klaverjastoernooi
URL:https://wijkverenigingdeweide.com/event/paas-klaverjastoernooi-2/
LOCATION:Wijkcentrum De Weideblik\, De Ploeger 10\, Hoogeveen\, 7908LL\, Nederland
CATEGORIES:Kaarten
ORGANIZER;CN="Geert Oost":MAILTO:kaarten@wijkverenigingdeweide.nl
END:VEVENT
BEGIN:VEVENT
DTSTART;TZID=Europe/Amsterdam:20260118T080000
DTEND;TZID=Europe/Amsterdam:20260118T170000
DTSTAMP:20260421T060435
CREATED:20260118T104736Z
LAST-MODIFIED:20260118T104736Z
UID:2276-1768723200-1768755600@wijkverenigingdeweide.com
SUMMARY:Paas Klaverjastoernooi
DESCRIPTION:Wijkvereniging De Weide organiseert op 31maart een Paas-Klaverjastoernooi met mooie prijzen! \nIedere deelnemer gaat in elk geval met een doosje eieren naar huis. \nAanvang 19:30\, Inleg € 5\,00 voor leden en € 6\,00 voor niet-leden.
URL:https://wijkverenigingdeweide.com/event/paas-klaverjastoernooi/
CATEGORIES:Kaarten
END:VEVENT
BEGIN:VEVENT
DTSTART;TZID=Europe/Amsterdam:20251216T193000
DTEND;TZID=Europe/Amsterdam:20251216T230000
DTSTAMP:20260421T060435
CREATED:20251127T070216Z
LAST-MODIFIED:20251128T160456Z
UID:2214-1765913400-1765926000@wijkverenigingdeweide.com
SUMMARY:Kerstklaverjas toernooi
DESCRIPTION:
URL:https://wijkverenigingdeweide.com/event/kerstklaverjas-toernooi/
LOCATION:Wijkcentrum De Weideblik\, De Ploeger 10\, Hoogeveen\, 7908LL\, Nederland
CATEGORIES:Kaarten
ORGANIZER;CN="Geert Oost":MAILTO:kaarten@wijkverenigingdeweide.nl
END:VEVENT
BEGIN:VEVENT
DTSTART;TZID=Europe/Amsterdam:20250520T193000
DTEND;TZID=Europe/Amsterdam:20250520T230000
DTSTAMP:20260421T060435
CREATED:20250406T083318Z
LAST-MODIFIED:20250406T083406Z
UID:1916-1747769400-1747782000@wijkverenigingdeweide.com
SUMMARY:Prijs Koppelklaverjassen
DESCRIPTION:Laatste dag van het Prijs-Koppelklaverjas toernooi \nInclusief de prijsuitreiking !
URL:https://wijkverenigingdeweide.com/event/prijs-koppelklaverjassen-5/
LOCATION:Wijkcentrum De Weideblik\, De Ploeger 10\, Hoogeveen\, 7908LL\, Nederland
CATEGORIES:Kaarten
ATTACH;FMTTYPE=image/png:https://wijkverenigingdeweide.com/wp-content/uploads/2025/04/Koppelkaarten-2025.png
ORGANIZER;CN="Geert Oost":MAILTO:kaarten@wijkverenigingdeweide.nl
END:VEVENT
BEGIN:VEVENT
DTSTART;TZID=Europe/Amsterdam:20250513T080000
DTEND;TZID=Europe/Amsterdam:20250513T230000
DTSTAMP:20260421T060435
CREATED:20250406T083149Z
LAST-MODIFIED:20250406T083149Z
UID:1914-1747123200-1747177200@wijkverenigingdeweide.com
SUMMARY:Prijs Koppelklaverjassen
DESCRIPTION:Dag 4 van het Prijs-Koppelklaverjas toernooi. \nWe zijn er bijna…….
URL:https://wijkverenigingdeweide.com/event/prijs-koppelklaverjassen-4/
LOCATION:Wijkcentrum De Weideblik\, De Ploeger 10\, Hoogeveen\, 7908LL\, Nederland
CATEGORIES:Kaarten
ATTACH;FMTTYPE=image/png:https://wijkverenigingdeweide.com/wp-content/uploads/2025/04/Koppelkaarten-2025.png
ORGANIZER;CN="Geert Oost":MAILTO:kaarten@wijkverenigingdeweide.nl
END:VEVENT
BEGIN:VEVENT
DTSTART;TZID=Europe/Amsterdam:20250506T193000
DTEND;TZID=Europe/Amsterdam:20250506T230000
DTSTAMP:20260421T060435
CREATED:20250406T083029Z
LAST-MODIFIED:20250406T083029Z
UID:1912-1746559800-1746572400@wijkverenigingdeweide.com
SUMMARY:Prijs Koppelklaverjassen
DESCRIPTION:Dag 3 van het Prijs-Koppelklaverjas toernooi
URL:https://wijkverenigingdeweide.com/event/prijs-koppelklaverjassen-3/
LOCATION:Wijkcentrum De Weideblik\, De Ploeger 10\, Hoogeveen\, 7908LL\, Nederland
CATEGORIES:Kaarten
ATTACH;FMTTYPE=image/png:https://wijkverenigingdeweide.com/wp-content/uploads/2025/04/Koppelkaarten-2025.png
ORGANIZER;CN="Geert Oost":MAILTO:kaarten@wijkverenigingdeweide.nl
END:VEVENT
BEGIN:VEVENT
DTSTART;TZID=Europe/Amsterdam:20250429T193000
DTEND;TZID=Europe/Amsterdam:20250429T230000
DTSTAMP:20260421T060435
CREATED:20250406T082923Z
LAST-MODIFIED:20250406T082923Z
UID:1910-1745955000-1745967600@wijkverenigingdeweide.com
SUMMARY:Prijs Koppelklaverjassen
DESCRIPTION:Dag 2 van het Prijs-Koppelklaverjas toernooi
URL:https://wijkverenigingdeweide.com/event/prijs-koppelklaverjassen-2/
LOCATION:Wijkcentrum De Weideblik\, De Ploeger 10\, Hoogeveen\, 7908LL\, Nederland
CATEGORIES:Kaarten
ATTACH;FMTTYPE=image/png:https://wijkverenigingdeweide.com/wp-content/uploads/2025/04/Koppelkaarten-2025.png
ORGANIZER;CN="Geert Oost":MAILTO:kaarten@wijkverenigingdeweide.nl
END:VEVENT
BEGIN:VEVENT
DTSTART;TZID=Europe/Amsterdam:20250422T193000
DTEND;TZID=Europe/Amsterdam:20250422T230000
DTSTAMP:20260421T060435
CREATED:20250406T082542Z
LAST-MODIFIED:20250406T082645Z
UID:1907-1745350200-1745362800@wijkverenigingdeweide.com
SUMMARY:Prijs Koppelklaverjassen
DESCRIPTION:Klaverjasvereniging De Weide organiseert een Prijs-koppelklaverjas toernooi op 22-4\, 29-4\, 6-5\, 13-5 en 20-4 \nOpgave per koppel voor maandag 21 april bij Geert Oost via kaarten@wijkverenigingdeweide.nl of Whatsapp: 06-11114444 \nMinimale deelname 12 koppels\, op de 5e avond is de prijsuitreiking. Bijna de gehele inleg wordt uitgekeerd als prijzengeld
URL:https://wijkverenigingdeweide.com/event/prijs-koppelklaverjassen/
LOCATION:Wijkcentrum De Weideblik\, De Ploeger 10\, Hoogeveen\, 7908LL\, Nederland
CATEGORIES:Kaarten
ATTACH;FMTTYPE=image/png:https://wijkverenigingdeweide.com/wp-content/uploads/2025/04/Koppelkaarten-2025.png
ORGANIZER;CN="Geert Oost":MAILTO:kaarten@wijkverenigingdeweide.nl
END:VEVENT
BEGIN:VEVENT
DTSTART;TZID=Europe/Amsterdam:20250415T193000
DTEND;TZID=Europe/Amsterdam:20250415T233000
DTSTAMP:20260421T060435
CREATED:20250406T081359Z
LAST-MODIFIED:20250406T081757Z
UID:1902-1744745400-1744759800@wijkverenigingdeweide.com
SUMMARY:Paas-Prijsklaverjassen
DESCRIPTION:Klaverjasvereniging De Weide organiseert op 15 april as. PAAS-PRIJSKLAVERJASSEN \nEr zijn weer mooie prijzen te winnen en mocht u onverhoopt niet in de prijzen zijn gevallen gaat u in ieder geval met een doosje eieren naar huis \n  \nopgave voor 15 april 14:00 bij Geert Oost via kaarten@wijkverenigingdeweide.nl of via Whatapp:  06-11114444 \n  \n  \n 
URL:https://wijkverenigingdeweide.com/event/paas-prijsklaverjassen/
LOCATION:Wijkcentrum De Weideblik\, De Ploeger 10\, Hoogeveen\, 7908LL\, Nederland
CATEGORIES:Kaarten
ATTACH;FMTTYPE=image/png:https://wijkverenigingdeweide.com/wp-content/uploads/2025/04/Paasklaverjassen-2025.png
ORGANIZER;CN="Geert Oost":MAILTO:kaarten@wijkverenigingdeweide.nl
END:VEVENT
BEGIN:VEVENT
DTSTART;TZID=Europe/Amsterdam:20241217T193000
DTEND;TZID=Europe/Amsterdam:20241217T230000
DTSTAMP:20260421T060435
CREATED:20241105T095237Z
LAST-MODIFIED:20241105T095855Z
UID:1726-1734463800-1734476400@wijkverenigingdeweide.com
SUMMARY:Kerstklaverjastoernooi
DESCRIPTION:
URL:https://wijkverenigingdeweide.com/event/kerstklaverjastoernooi/
LOCATION:Wijkcentrum De Weideblik\, De Ploeger 10\, Hoogeveen\, 7908LL\, Nederland
CATEGORIES:Kaarten
ATTACH;FMTTYPE=image/jpeg:https://wijkverenigingdeweide.com/wp-content/uploads/2024/11/Kerstklaverjasdrive-2024-page-00001.jpg
ORGANIZER;CN="Geert Oost":MAILTO:kaarten@wijkverenigingdeweide.nl
END:VEVENT
END:VCALENDAR