BEGIN:VCALENDAR
VERSION:2.0
PRODID:-//Wijkvereniging De Weide | het hart van de wijk! - ECPv6.15.20//NONSGML v1.0//EN
CALSCALE:GREGORIAN
METHOD:PUBLISH
X-WR-CALNAME:Wijkvereniging De Weide | het hart van de wijk!
X-ORIGINAL-URL:https://wijkverenigingdeweide.com
X-WR-CALDESC:Evenementen voor Wijkvereniging De Weide | het hart van de wijk!
REFRESH-INTERVAL;VALUE=DURATION:PT1H
X-Robots-Tag:noindex
X-PUBLISHED-TTL:PT1H
BEGIN:VTIMEZONE
TZID:Europe/Amsterdam
BEGIN:DAYLIGHT
TZOFFSETFROM:+0100
TZOFFSETTO:+0200
TZNAME:CEST
DTSTART:20240331T010000
END:DAYLIGHT
BEGIN:STANDARD
TZOFFSETFROM:+0200
TZOFFSETTO:+0100
TZNAME:CET
DTSTART:20241027T010000
END:STANDARD
BEGIN:DAYLIGHT
TZOFFSETFROM:+0100
TZOFFSETTO:+0200
TZNAME:CEST
DTSTART:20250330T010000
END:DAYLIGHT
BEGIN:STANDARD
TZOFFSETFROM:+0200
TZOFFSETTO:+0100
TZNAME:CET
DTSTART:20251026T010000
END:STANDARD
BEGIN:DAYLIGHT
TZOFFSETFROM:+0100
TZOFFSETTO:+0200
TZNAME:CEST
DTSTART:20260329T010000
END:DAYLIGHT
BEGIN:STANDARD
TZOFFSETFROM:+0200
TZOFFSETTO:+0100
TZNAME:CET
DTSTART:20261025T010000
END:STANDARD
END:VTIMEZONE
BEGIN:VEVENT
DTSTART;TZID=Europe/Amsterdam:20250415T193000
DTEND;TZID=Europe/Amsterdam:20250415T233000
DTSTAMP:20260419T214024
CREATED:20250406T081359Z
LAST-MODIFIED:20250406T081757Z
UID:1902-1744745400-1744759800@wijkverenigingdeweide.com
SUMMARY:Paas-Prijsklaverjassen
DESCRIPTION:Klaverjasvereniging De Weide organiseert op 15 april as. PAAS-PRIJSKLAVERJASSEN \nEr zijn weer mooie prijzen te winnen en mocht u onverhoopt niet in de prijzen zijn gevallen gaat u in ieder geval met een doosje eieren naar huis \n  \nopgave voor 15 april 14:00 bij Geert Oost via kaarten@wijkverenigingdeweide.nl of via Whatapp:  06-11114444 \n  \n  \n 
URL:https://wijkverenigingdeweide.com/event/paas-prijsklaverjassen/
LOCATION:Wijkcentrum De Weideblik\, De Ploeger 10\, Hoogeveen\, 7908LL\, Nederland
CATEGORIES:Kaarten
ATTACH;FMTTYPE=image/png:https://wijkverenigingdeweide.com/wp-content/uploads/2025/04/Paasklaverjassen-2025.png
ORGANIZER;CN="Geert Oost":MAILTO:kaarten@wijkverenigingdeweide.nl
END:VEVENT
BEGIN:VEVENT
DTSTART;TZID=Europe/Amsterdam:20250421T100000
DTEND;TZID=Europe/Amsterdam:20250421T130000
DTSTAMP:20260419T214024
CREATED:20250410T053306Z
LAST-MODIFIED:20250410T053306Z
UID:1966-1745229600-1745240400@wijkverenigingdeweide.com
SUMMARY:Paaseieren Zoeken
DESCRIPTION:Wij organiseren op 21 april weer het jaarlijkse Paaseieren zoeken In het Roekebos te Echten \n10:00 verzamelen bij wijkgebouw De Weideblik en ophalen deelnamekaartjes\n10:15 vertrek naar het bos met eigen vervoer.\nALLE kinderen van 2 t/m 10 jaar kunnen zich opgeven\nMAAR vol is vol\nDe kosten bedragen € 2\,50 voor leden en € 5\,00 voor niet-leden
URL:https://wijkverenigingdeweide.com/event/paaseieren-zoeken/
LOCATION:Bos bij Echten\, Echten
CATEGORIES:Pasen
ATTACH;FMTTYPE=application/pdf:https://wijkverenigingdeweide.com/wp-content/uploads/2025/04/Paaseieren-zoeken-2025-1.pdf
END:VEVENT
BEGIN:VEVENT
DTSTART;TZID=Europe/Amsterdam:20250422T193000
DTEND;TZID=Europe/Amsterdam:20250422T230000
DTSTAMP:20260419T214024
CREATED:20250406T082542Z
LAST-MODIFIED:20250406T082645Z
UID:1907-1745350200-1745362800@wijkverenigingdeweide.com
SUMMARY:Prijs Koppelklaverjassen
DESCRIPTION:Klaverjasvereniging De Weide organiseert een Prijs-koppelklaverjas toernooi op 22-4\, 29-4\, 6-5\, 13-5 en 20-4 \nOpgave per koppel voor maandag 21 april bij Geert Oost via kaarten@wijkverenigingdeweide.nl of Whatsapp: 06-11114444 \nMinimale deelname 12 koppels\, op de 5e avond is de prijsuitreiking. Bijna de gehele inleg wordt uitgekeerd als prijzengeld
URL:https://wijkverenigingdeweide.com/event/prijs-koppelklaverjassen/
LOCATION:Wijkcentrum De Weideblik\, De Ploeger 10\, Hoogeveen\, 7908LL\, Nederland
CATEGORIES:Kaarten
ATTACH;FMTTYPE=image/png:https://wijkverenigingdeweide.com/wp-content/uploads/2025/04/Koppelkaarten-2025.png
ORGANIZER;CN="Geert Oost":MAILTO:kaarten@wijkverenigingdeweide.nl
END:VEVENT
BEGIN:VEVENT
DTSTART;TZID=Europe/Amsterdam:20250429T193000
DTEND;TZID=Europe/Amsterdam:20250429T230000
DTSTAMP:20260419T214024
CREATED:20250406T082923Z
LAST-MODIFIED:20250406T082923Z
UID:1910-1745955000-1745967600@wijkverenigingdeweide.com
SUMMARY:Prijs Koppelklaverjassen
DESCRIPTION:Dag 2 van het Prijs-Koppelklaverjas toernooi
URL:https://wijkverenigingdeweide.com/event/prijs-koppelklaverjassen-2/
LOCATION:Wijkcentrum De Weideblik\, De Ploeger 10\, Hoogeveen\, 7908LL\, Nederland
CATEGORIES:Kaarten
ATTACH;FMTTYPE=image/png:https://wijkverenigingdeweide.com/wp-content/uploads/2025/04/Koppelkaarten-2025.png
ORGANIZER;CN="Geert Oost":MAILTO:kaarten@wijkverenigingdeweide.nl
END:VEVENT
END:VCALENDAR